BEGIN:VCALENDAR
VERSION:2.0
PRODID:spatie/icalendar-generator
NAME:Schlieren
X-WR-CALNAME:Schlieren
BEGIN:VTIMEZONE
TZID:Europe/Zurich
BEGIN:STANDARD
DTSTART:20251026T030000
TZOFFSETFROM:+0200
TZOFFSETTO:+0100
END:STANDARD
BEGIN:DAYLIGHT
DTSTART:20260329T010000
TZOFFSETFROM:+0100
TZOFFSETTO:+0200
END:DAYLIGHT
BEGIN:STANDARD
DTSTART:20261025T030000
TZOFFSETFROM:+0200
TZOFFSETTO:+0100
END:STANDARD
END:VTIMEZONE
BEGIN:VTIMEZONE
TZID:UTC
BEGIN:STANDARD
DTSTART:20250728T081155
TZOFFSETFROM:+0000
TZOFFSETTO:+0000
END:STANDARD
END:VTIMEZONE
BEGIN:VEVENT
UID:69eb25cb51449
DTSTAMP:20260424T081155Z
SUMMARY:Hauskehricht West
DESCRIPTION: 
URL:https://m.schlieren.ch/index.php?apid=1389938
DTSTART;TZID=Europe/Zurich:20260427T070000
DTEND;TZID=Europe/Zurich:20260427T073000
END:VEVENT
BEGIN:VEVENT
UID:69eb25cb5149e
DTSTAMP:20260424T081155Z
SUMMARY:Hauskehricht West
DESCRIPTION: 
URL:https://m.schlieren.ch/index.php?apid=1389938
DTSTART;TZID=Europe/Zurich:20260430T070000
DTEND;TZID=Europe/Zurich:20260430T073000
END:VEVENT
BEGIN:VEVENT
UID:69eb25cb514ac
DTSTAMP:20260424T081155Z
SUMMARY:Hauskehricht West
DESCRIPTION: 
URL:https://m.schlieren.ch/index.php?apid=1389938
DTSTART;TZID=Europe/Zurich:20260504T070000
DTEND;TZID=Europe/Zurich:20260504T073000
END:VEVENT
BEGIN:VEVENT
UID:69eb25cb514b6
DTSTAMP:20260424T081155Z
SUMMARY:Hauskehricht West
DESCRIPTION: 
URL:https://m.schlieren.ch/index.php?apid=1389938
DTSTART;TZID=Europe/Zurich:20260507T070000
DTEND;TZID=Europe/Zurich:20260507T073000
END:VEVENT
BEGIN:VEVENT
UID:69eb25cb514c0
DTSTAMP:20260424T081155Z
SUMMARY:Hauskehricht West
DESCRIPTION: 
URL:https://m.schlieren.ch/index.php?apid=1389938
DTSTART;TZID=Europe/Zurich:20260511T070000
DTEND;TZID=Europe/Zurich:20260511T073000
END:VEVENT
BEGIN:VEVENT
UID:69eb25cb514c9
DTSTAMP:20260424T081155Z
SUMMARY:Hauskehricht West
DESCRIPTION: 
URL:https://m.schlieren.ch/index.php?apid=1389938
DTSTART;TZID=Europe/Zurich:20260518T070000
DTEND;TZID=Europe/Zurich:20260518T073000
END:VEVENT
BEGIN:VEVENT
UID:69eb25cb514d2
DTSTAMP:20260424T081155Z
SUMMARY:Hauskehricht West
DESCRIPTION: 
URL:https://m.schlieren.ch/index.php?apid=1389938
DTSTART;TZID=Europe/Zurich:20260521T070000
DTEND;TZID=Europe/Zurich:20260521T073000
END:VEVENT
BEGIN:VEVENT
UID:69eb25cb514db
DTSTAMP:20260424T081155Z
SUMMARY:Hauskehricht West
DESCRIPTION: 
URL:https://m.schlieren.ch/index.php?apid=1389938
DTSTART;TZID=Europe/Zurich:20260528T070000
DTEND;TZID=Europe/Zurich:20260528T073000
END:VEVENT
BEGIN:VEVENT
UID:69eb25cb514e4
DTSTAMP:20260424T081155Z
SUMMARY:Hauskehricht West
DESCRIPTION: 
URL:https://m.schlieren.ch/index.php?apid=1389938
DTSTART;TZID=Europe/Zurich:20260601T070000
DTEND;TZID=Europe/Zurich:20260601T073000
END:VEVENT
BEGIN:VEVENT
UID:69eb25cb514ed
DTSTAMP:20260424T081155Z
SUMMARY:Hauskehricht West
DESCRIPTION: 
URL:https://m.schlieren.ch/index.php?apid=1389938
DTSTART;TZID=Europe/Zurich:20260604T070000
DTEND;TZID=Europe/Zurich:20260604T073000
END:VEVENT
BEGIN:VEVENT
UID:69eb25cb514f6
DTSTAMP:20260424T081155Z
SUMMARY:Hauskehricht West
DESCRIPTION: 
URL:https://m.schlieren.ch/index.php?apid=1389938
DTSTART;TZID=Europe/Zurich:20260608T070000
DTEND;TZID=Europe/Zurich:20260608T073000
END:VEVENT
BEGIN:VEVENT
UID:69eb25cb514ff
DTSTAMP:20260424T081155Z
SUMMARY:Hauskehricht West
DESCRIPTION: 
URL:https://m.schlieren.ch/index.php?apid=1389938
DTSTART;TZID=Europe/Zurich:20260611T070000
DTEND;TZID=Europe/Zurich:20260611T073000
END:VEVENT
BEGIN:VEVENT
UID:69eb25cb51508
DTSTAMP:20260424T081155Z
SUMMARY:Hauskehricht West
DESCRIPTION: 
URL:https://m.schlieren.ch/index.php?apid=1389938
DTSTART;TZID=Europe/Zurich:20260615T070000
DTEND;TZID=Europe/Zurich:20260615T073000
END:VEVENT
BEGIN:VEVENT
UID:69eb25cb51511
DTSTAMP:20260424T081155Z
SUMMARY:Hauskehricht West
DESCRIPTION: 
URL:https://m.schlieren.ch/index.php?apid=1389938
DTSTART;TZID=Europe/Zurich:20260618T070000
DTEND;TZID=Europe/Zurich:20260618T073000
END:VEVENT
BEGIN:VEVENT
UID:69eb25cb51519
DTSTAMP:20260424T081155Z
SUMMARY:Hauskehricht West
DESCRIPTION: 
URL:https://m.schlieren.ch/index.php?apid=1389938
DTSTART;TZID=Europe/Zurich:20260622T070000
DTEND;TZID=Europe/Zurich:20260622T073000
END:VEVENT
BEGIN:VEVENT
UID:69eb25cb51523
DTSTAMP:20260424T081155Z
SUMMARY:Hauskehricht West
DESCRIPTION: 
URL:https://m.schlieren.ch/index.php?apid=1389938
DTSTART;TZID=Europe/Zurich:20260625T070000
DTEND;TZID=Europe/Zurich:20260625T073000
END:VEVENT
BEGIN:VEVENT
UID:69eb25cb5152b
DTSTAMP:20260424T081155Z
SUMMARY:Hauskehricht West
DESCRIPTION: 
URL:https://m.schlieren.ch/index.php?apid=1389938
DTSTART;TZID=Europe/Zurich:20260629T070000
DTEND;TZID=Europe/Zurich:20260629T073000
END:VEVENT
END:VCALENDAR