BEGIN:VCALENDAR
VERSION:2.0
PRODID:spatie/icalendar-generator
NAME:Schlieren
X-WR-CALNAME:Schlieren
BEGIN:VTIMEZONE
TZID:Europe/Zurich
BEGIN:STANDARD
DTSTART:20251026T030000
TZOFFSETFROM:+0200
TZOFFSETTO:+0100
END:STANDARD
BEGIN:DAYLIGHT
DTSTART:20260329T010000
TZOFFSETFROM:+0100
TZOFFSETTO:+0200
END:DAYLIGHT
BEGIN:STANDARD
DTSTART:20261025T030000
TZOFFSETFROM:+0200
TZOFFSETTO:+0100
END:STANDARD
END:VTIMEZONE
BEGIN:VTIMEZONE
TZID:UTC
BEGIN:STANDARD
DTSTART:20250728T081214
TZOFFSETFROM:+0000
TZOFFSETTO:+0000
END:STANDARD
END:VTIMEZONE
BEGIN:VEVENT
UID:69eb25dee94c0
DTSTAMP:20260424T081214Z
SUMMARY:Papiersammlung Ost
DESCRIPTION:Das Papier muss vor 08.00 Uhr gebündelt bereitgestellt werden.
  Keine Papiertragetaschen! 
URL:https://m.schlieren.ch/index.php?apid=5141104
DTSTART;TZID=Europe/Zurich:20260509T080000
DTEND;TZID=Europe/Zurich:20260509T083000
END:VEVENT
END:VCALENDAR