BEGIN:VCALENDAR
VERSION:2.0
PRODID:spatie/icalendar-generator
NAME:Schlieren
X-WR-CALNAME:Schlieren
BEGIN:VTIMEZONE
TZID:Europe/Zurich
BEGIN:STANDARD
DTSTART:20251026T030000
TZOFFSETFROM:+0200
TZOFFSETTO:+0100
END:STANDARD
BEGIN:DAYLIGHT
DTSTART:20260329T010000
TZOFFSETFROM:+0100
TZOFFSETTO:+0200
END:DAYLIGHT
BEGIN:STANDARD
DTSTART:20261025T030000
TZOFFSETFROM:+0200
TZOFFSETTO:+0100
END:STANDARD
END:VTIMEZONE
BEGIN:VTIMEZONE
TZID:UTC
BEGIN:STANDARD
DTSTART:20250728T081159
TZOFFSETFROM:+0000
TZOFFSETTO:+0000
END:STANDARD
END:VTIMEZONE
BEGIN:VEVENT
UID:69eb25cfe9059
DTSTAMP:20260424T081159Z
SUMMARY:Karton Ost
DESCRIPTION:Der Karton muss vor 07.00 Uhr bereitgestellt werden. 
URL:https://m.schlieren.ch/index.php?apid=8043885
DTSTART;TZID=Europe/Zurich:20260507T070000
DTEND;TZID=Europe/Zurich:20260507T073000
END:VEVENT
BEGIN:VEVENT
UID:69eb25cfe911f
DTSTAMP:20260424T081159Z
SUMMARY:Karton Ost
DESCRIPTION:Der Karton muss vor 07.00 Uhr bereitgestellt werden. 
URL:https://m.schlieren.ch/index.php?apid=8043885
DTSTART;TZID=Europe/Zurich:20260521T070000
DTEND;TZID=Europe/Zurich:20260521T073000
END:VEVENT
BEGIN:VEVENT
UID:69eb25cfe9141
DTSTAMP:20260424T081159Z
SUMMARY:Karton Ost
DESCRIPTION:Der Karton muss vor 07.00 Uhr bereitgestellt werden. 
URL:https://m.schlieren.ch/index.php?apid=8043885
DTSTART;TZID=Europe/Zurich:20260604T070000
DTEND;TZID=Europe/Zurich:20260604T073000
END:VEVENT
BEGIN:VEVENT
UID:69eb25cfe915b
DTSTAMP:20260424T081159Z
SUMMARY:Karton Ost
DESCRIPTION:Der Karton muss vor 07.00 Uhr bereitgestellt werden. 
URL:https://m.schlieren.ch/index.php?apid=8043885
DTSTART;TZID=Europe/Zurich:20260618T070000
DTEND;TZID=Europe/Zurich:20260618T073000
END:VEVENT
END:VCALENDAR